BEGIN:VCALENDAR
VERSION:2.0
PRODID:-//eventon.com NONSGML v1.0//EN
CALSCALE:GREGORIAN
METHOD:PUBLISH
BEGIN:VEVENT
UID:69e8a2d19cebd
DTSTAMP:20260422T102833Z
DTSTART:20250905T200000Z
DTEND:20250905T235900Z
LOCATION:Alma Hoppes Lustspielhaus Ludolfstr. 53\,  20249 Hamburg
SUMMARY:Hamburg
DESCRIPTION:Hamburg\nhttps://michaelkrebs.de/events/hamburg-6/
URL:https://michaelkrebs.de/events/hamburg-6/
END:VEVENT
END:VCALENDAR