BEGIN:VCALENDAR
VERSION:2.0
PRODID:-//eventon.com NONSGML v1.0//EN
CALSCALE:GREGORIAN
METHOD:PUBLISH
BEGIN:VEVENT
UID:69e9dd23981c5
DTSTAMP:20260423T084939Z
DTSTART:20260207T200000Z
DTEND:20260207T235900Z
LOCATION:Filderhalle Bahnhofstraße 61\,  70771 Leinfelden-Echterdingen
SUMMARY:Leinfelden-Echterdingen
DESCRIPTION:Leinfelden-Echterdingen\nhttps://michaelkrebs.de/events/leinfel
 den-echterdingen/
URL:https://michaelkrebs.de/events/leinfelden-echterdingen/
END:VEVENT
END:VCALENDAR