BEGIN:VCALENDAR
VERSION:2.0
PRODID:-//eventon.com NONSGML v1.0//EN
CALSCALE:GREGORIAN
METHOD:PUBLISH
BEGIN:VEVENT
UID:69e9d77e01fc0
DTSTAMP:20260423T082534Z
DTSTART:20250508T200000Z
DTEND:20250508T200000Z
LOCATION:Vorderhaus - Kultur in der Fabrik Vorderhaus - Kultur in der Fabrik\,  Habsburgerstr. 9\,  79104 Freiburg
SUMMARY:Freiburg
DESCRIPTION:Freiburg\nhttps://michaelkrebs.de/events/freiburg/
URL:https://michaelkrebs.de/events/freiburg/
END:VEVENT
END:VCALENDAR