BEGIN:VCALENDAR
VERSION:2.0
PRODID:-//eventon.com NONSGML v1.0//EN
CALSCALE:GREGORIAN
METHOD:PUBLISH
BEGIN:VEVENT
UID:69e9ea87cbdfd
DTSTAMP:20260423T094647Z
DTSTART:20240927T200000Z
DTEND:20240927T235900Z
LOCATION:Capitol Hafenstraße 156 \,  27576 Bremerhaven
SUMMARY:Bremerhaven
DESCRIPTION:Bremerhaven\nhttps://michaelkrebs.de/events/bremerhaven-2/
URL:https://michaelkrebs.de/events/bremerhaven-2/
END:VEVENT
END:VCALENDAR