BEGIN:VCALENDAR
VERSION:2.0
PRODID:-//eventon.com NONSGML v1.0//EN
CALSCALE:GREGORIAN
METHOD:PUBLISH
BEGIN:VEVENT
UID:69e8874095eae
DTSTAMP:20260422T083056Z
DTSTART:20240915T143000Z
DTEND:20240915T235900Z
LOCATION:Homeyers Hof Frielinger Straße 12\,  30826 Garbsen
SUMMARY:Garbsen
DESCRIPTION:Garbsen\nhttps://michaelkrebs.de/events/garbsen/
URL:https://michaelkrebs.de/events/garbsen/
END:VEVENT
END:VCALENDAR